BEGIN:VCALENDAR
VERSION:2.0
PRODID:-//Strides for Peace - ECPv5.7.0//NONSGML v1.0//EN
CALSCALE:GREGORIAN
METHOD:PUBLISH
X-WR-CALNAME:Strides for Peace
X-ORIGINAL-URL:https://www.stridesforpeace.org
X-WR-CALDESC:Events for Strides for Peace
BEGIN:VTIMEZONE
TZID:America/Chicago
BEGIN:DAYLIGHT
TZOFFSETFROM:-0600
TZOFFSETTO:-0500
TZNAME:CDT
DTSTART:20210314T080000
END:DAYLIGHT
BEGIN:STANDARD
TZOFFSETFROM:-0500
TZOFFSETTO:-0600
TZNAME:CST
DTSTART:20211107T070000
END:STANDARD
END:VTIMEZONE
BEGIN:VEVENT
DTSTART;TZID=America/Chicago:20210702T180000
DTEND;TZID=America/Chicago:20210702T213000
DTSTAMP:20210701T233902
CREATED:20210701T120635Z
LAST-MODIFIED:20210701T120635Z
UID:35305-1625248800-1625261400@www.stridesforpeace.org
SUMMARY:St. Sabina Block Party
DESCRIPTION:Live music\, bouncy house\, double dutch games\, free food\, basketball\, live DJ and more!
URL:https://www.stridesforpeace.org/event/st-sabina-block-party/
LOCATION:Renaissance Park\, 1230 West 79th Street\, Chicago \, IL\, 60620\, United States
ATTACH;FMTTYPE=image/png:https://www.stridesforpeace.org/wp-content/uploads/Screen-Shot-2021-07-01-at-8.04.13-AM.png
END:VEVENT
BEGIN:VEVENT
DTSTART;TZID=America/Chicago:20210717T100000
DTEND;TZID=America/Chicago:20210717T130000
DTSTAMP:20210701T233902
CREATED:20210625T201856Z
LAST-MODIFIED:20210625T201856Z
UID:34848-1626516000-1626526800@www.stridesforpeace.org
SUMMARY:One West Side Community Peace Walk
DESCRIPTION:Community residents welcome!   \nAustin\, Garfield Park\, West Humboldt Park and North Lawndale \nThe walk will conclude at Garfield Park Music Court (Madison & Hamlin) for ceremony and celebration from 11-1 with food\, music with DJ Hot Rod\, the Strides for Peace PeaceMobile and more! \nPlease call 773-227-2880 for information.
URL:https://www.stridesforpeace.org/event/one-west-side-community-peace-walk/
LOCATION:5100 W. Harrison St.
ATTACH;FMTTYPE=image/jpeg:https://www.stridesforpeace.org/wp-content/uploads/COMMUNITY-WALK_721.jpg
END:VEVENT
BEGIN:VEVENT
DTSTART;TZID=America/Chicago:20210717T130000
DTEND;TZID=America/Chicago:20210717T160000
DTSTAMP:20210701T233902
CREATED:20210527T170239Z
LAST-MODIFIED:20210527T172609Z
UID:31073-1626526800-1626537600@www.stridesforpeace.org
SUMMARY:Paving the Way Project 6th Annual Cool Down
DESCRIPTION:Fun for the whole family!\nAdmission is free and open to the public.\nFood\, music\, carnival games and prizes\, basketball\, scooters and book bag giveaway while supplies last \nAll Covid-19 guidelines enforced and masks required.
URL:https://www.stridesforpeace.org/event/paving-the-way-project-6th-annual-cool-down/
LOCATION:109 E. 53rd Street\, Chicago\, IL\, 60615
ATTACH;FMTTYPE=image/png:https://www.stridesforpeace.org/wp-content/uploads/Screenshot_20210526-1841422.png
END:VEVENT
BEGIN:VEVENT
DTSTART;TZID=America/Chicago:20210807T110000
DTEND;TZID=America/Chicago:20210807T150000
DTSTAMP:20210701T233902
CREATED:20210625T202156Z
LAST-MODIFIED:20210625T202156Z
UID:34850-1628334000-1628348400@www.stridesforpeace.org
SUMMARY:The Community Builders / Oakwood Shores & Friends Back to School Fest
DESCRIPTION:Giving away free school supplies!  With games\, food and prizes!
URL:https://www.stridesforpeace.org/event/the-community-builders-oakwood-shores-friends-back-to-school-fest/
LOCATION:3825 S. Vincennes Ave.\, Chicago\, IL\, 60653
ATTACH;FMTTYPE=image/png:https://www.stridesforpeace.org/wp-content/uploads/Back-To-School-Event-2.png
END:VEVENT
BEGIN:VEVENT
DTSTART;TZID=America/Chicago:20210923T180000
DTEND;TZID=America/Chicago:20210923T210000
DTSTAMP:20210701T233902
CREATED:20210221T170023Z
LAST-MODIFIED:20210221T170110Z
UID:21306-1632420000-1632430800@www.stridesforpeace.org
SUMMARY:2021 Race Against Gun Violence
DESCRIPTION:The Race Against Gun Violence (RAGV) celebrates the life-changing work of community organizations and provides a dynamic platform for people who care about ending gun violence to connect and get involved. \nThis year\, RAGV returns to Grant Park after going virtual in 2020 due to the COVID-19 pandemic. Following the overwhelming success of last years race\, 2021 will include a virtual option for those not able to attend in person. \nRAGV offers a one-of-a-kind opportunity to Choose Hope and join others who share the common vision of a Chicago free from the fear of gun violence. 100% of charitable contributions go directly to nonprofit organizations dedicated to ending gun violence.   \n8k\, 5k\, 2 Mile Walk (Coinciding Virtual Options) and Tots for Peace Sprint \nShare why you’re walking or running in the Race Against Gun Violence on social media!\n#WhyIRun and #RAGV2021 \nLearn more about amazing nonprofits in Chicago working to end gun violence!\nFollow #ChooseHope  \nFor race-related questions\, including group registration options\, contact Strides for Peace at info@stridesforpeace.org
URL:https://www.stridesforpeace.org/event/2021-race-against-gun-violence/
CATEGORIES:Strides for Peace Events
ATTACH;FMTTYPE=image/jpeg:https://www.stridesforpeace.org/wp-content/uploads/Instragram-Pic.jpg
END:VEVENT
END:VCALENDAR